Workbook

Sheet Como usar
B1: Planilha de campeonato com 8 times
B2: Todos contra todos: 28 jogos em 7 rodadas no turno, mais 28 no returno. Vitória vale 3 pontos e empate vale 1.
B4: Times
B5: Na aba Times, troque Time A, Time B e os outros pelos nomes dos seus times. Os jogos, a classificação e a artilharia puxam os nomes de lá.
B7: Jogos
B8: Na aba Jogos, preencha data, horário e local de cada partida. Depois do jogo, digite os gols do mandante e do visitante. Só conta jogo com os dois placares.
B10: Classificação
B11: A aba Classificação se ordena sozinha: pontos, vitórias, saldo de gols e gols marcados, nessa ordem.
B13: Empate
B14: Se dois times continuarem empatados em tudo, a coluna Atenção avisa. Aí vale o próximo critério do seu regulamento, como confronto direto, cartões ou sorteio.
B16: Returno
B17: O returno já está montado abaixo do turno, com os mandos invertidos. Em turno único, deixe os placares do returno em branco.
... B27: natrave.com.br

Sheet Times
A1: Times
A2: Digite o nome de cada time na coluna B. O resto da planilha usa estes nomes.
A4: Nº | B4: Nome do time
A5: 1 | B5: Time A
A6: 2 | B6: Time B
A7: 3 | B7: Time C
A8: 4 | B8: Time D
A9: 5 | B9: Time E
A10: 6 | B10: Time F
A11: 7 | B11: Time G
A12: 8 | B12: Time H

Sheet Jogos
A1: Jogos
A2: Os nomes vêm da aba Times. Digite só os gols de cada time depois da partida.
A4: Rodada | B4: Jogo | C4: Data | D4: Horário | E4: Local | F4: Mandante | G4: Gols | I4: Gols | J4: Visitante
A5: Turno
A6: 1 | B6: 1 | F6: =Times!$B$5&"" -> Time A | H6: x | J6: =Times!$B$12&"" -> Time H
A7: 1 | B7: 2 | F7: =Times!$B$6&"" -> Time B | H7: x | J7: =Times!$B$11&"" -> Time G
A8: 1 | B8: 3 | F8: =Times!$B$7&"" -> Time C | H8: x | J8: =Times!$B$10&"" -> Time F
A9: 1 | B9: 4 | F9: =Times!$B$8&"" -> Time D | H9: x | J9: =Times!$B$9&"" -> Time E
A10: 2 | B10: 5 | F10: =Times!$B$11&"" -> Time G | H10: x | J10: =Times!$B$5&"" -> Time A
A11: 2 | B11: 6 | F11: =Times!$B$10&"" -> Time F | H11: x | J11: =Times!$B$12&"" -> Time H
A12: 2 | B12: 7 | F12: =Times!$B$9&"" -> Time E | H12: x | J12: =Times!$B$6&"" -> Time B
A13: 2 | B13: 8 | F13: =Times!$B$8&"" -> Time D | H13: x | J13: =Times!$B$7&"" -> Time C
A14: 3 | B14: 9 | F14: =Times!$B$5&"" -> Time A | H14: x | J14: =Times!$B$10&"" -> Time F
A15: 3 | B15: 10 | F15: =Times!$B$11&"" -> Time G | H15: x | J15: =Times!$B$9&"" -> Time E
A16: 3 | B16: 11 | F16: =Times!$B$12&"" -> Time H | H16: x | J16: =Times!$B$8&"" -> Time D
A17: 3 | B17: 12 | F17: =Times!$B$6&"" -> Time B | H17: x | J17: =Times!$B$7&"" -> Time C
A18: 4 | B18: 13 | F18: =Times!$B$9&"" -> Time E | H18: x | J18: =Times!$B$5&"" -> Time A
A19: 4 | B19: 14 | F19: =Times!$B$8&"" -> Time D | H19: x | J19: =Times!$B$10&"" -> Time F
A20: 4 | B20: 15 | F20: =Times!$B$7&"" -> Time C | H20: x | J20: =Times!$B$11&"" -> Time G
A21: 4 | B21: 16 | F21: =Times!$B$6&"" -> Time B | H21: x | J21: =Times!$B$12&"" -> Time H
A22: 5 | B22: 17 | F22: =Times!$B$5&"" -> Time A | H22: x | J22: =Times!$B$8&"" -> Time D
A23: 5 | B23: 18 | F23: =Times!$B$9&"" -> Time E | H23: x | J23: =Times!$B$7&"" -> Time C
A24: 5 | B24: 19 | F24: =Times!$B$10&"" -> Time F | H24: x | J24: =Times!$B$6&"" -> Time B
A25: 5 | B25: 20 | F25: =Times!$B$11&"" -> Time G | H25: x | J25: =Times!$B$12&"" -> Time H
A26: 6 | B26: 21 | F26: =Times!$B$7&"" -> Time C | H26: x | J26: =Times!$B$5&"" -> Time A
A27: 6 | B27: 22 | F27: =Times!$B$6&"" -> Time B | H27: x | J27: =Times!$B$8&"" -> Time D
A28: 6 | B28: 23 | F28: =Times!$B$12&"" -> Time H | H28: x | J28: =Times!$B$9&"" -> Time E
A29: 6 | B29: 24 | F29: =Times!$B$11&"" -> Time G | H29: x | J29: =Times!$B$10&"" -> Time F
A30: 7 | B30: 25 | F30: =Times!$B$5&"" -> Time A | H30: x | J30: =Times!$B$6&"" -> Time B
A31: 7 | B31: 26 | F31: =Times!$B$7&"" -> Time C | H31: x | J31: =Times!$B$12&"" -> Time H
A32: 7 | B32: 27 | F32: =Times!$B$8&"" -> Time D | H32: x | J32: =Times!$B$11&"" -> Time G
A33: 7 | B33: 28 | F33: =Times!$B$9&"" -> Time E | H33: x | J33: =Times!$B$10&"" -> Time F
A34: Returno (em turno único, deixe estes placares em branco)
A35: 8 | B35: 29 | F35: =Times!$B$12&"" -> Time H | H35: x | J35: =Times!$B$5&"" -> Time A
A36: 8 | B36: 30 | F36: =Times!$B$11&"" -> Time G | H36: x | J36: =Times!$B$6&"" -> Time B
A37: 8 | B37: 31 | F37: =Times!$B$10&"" -> Time F | H37: x | J37: =Times!$B$7&"" -> Time C
A38: 8 | B38: 32 | F38: =Times!$B$9&"" -> Time E | H38: x | J38: =Times!$B$8&"" -> Time D
A39: 9 | B39: 33 | F39: =Times!$B$5&"" -> Time A | H39: x | J39: =Times!$B$11&"" -> Time G
A40: 9 | B40: 34 | F40: =Times!$B$12&"" -> Time H | H40: x | J40: =Times!$B$10&"" -> Time F
A41: 9 | B41: 35 | F41: =Times!$B$6&"" -> Time B | H41: x | J41: =Times!$B$9&"" -> Time E
...

Sheet Classificação
A1: Classificação
A2: Atualiza sozinha com os placares da aba Jogos. Ordem: pontos, vitórias, saldo e gols marcados.
A4: Pos. | B4: Time | C4: P | D4: J | E4: V | F4: E | G4: D | H4: GP | I4: GC | J4: SG | K4: Atenção
A5: 1 | B5: =INDEX(Calculo!$A$3:$A$10,MATCH(LARGE(Calculo!$K$3:$K$10,1),Calculo!$K$3:$K$10,0)) -> Time A | C5: =INDEX(Calculo!$I$3:$I$10,MATCH(LARGE(Calculo!$K$3:$K$10,1),Calculo!$K$3:$K$10,0)) -> 0 | D5: =INDEX(Calculo!$B$3:$B$10,MATCH(LARGE(Calculo!$K$3:$K$10,1),Calculo!$K$3:$K$10,0)) -> 0 | E5: =INDEX(Calculo!$C$3:$C$10,MATCH(LARGE(Calculo!$K$3:$K$10,1),Calculo!$K$3:$K$10,0)) -> 0 | F5: =INDEX(Calculo!$D$3:$D$10,MATCH(LARGE(Calculo!$K$3:$K$10,1),Calculo!$K$3:$K$10,0)) -> 0 | G5: =INDEX(Calculo!$E$3:$E$10,MATCH(LARGE(Calculo!$K$3:$K$10,1),Calculo!$K$3:$K$10,0)) -> 0 | H5: =INDEX(Calculo!$F$3:$F$10,MATCH(LARGE(Calculo!$K$3:$K$10,1),Calculo!$K$3:$K$10,0)) -> 0 | I5: =INDEX(Calculo!$G$3:$G$10,MATCH(LARGE(Calculo!$K$3:$K$10,1),Calculo!$K$3:$K$10,0)) -> 0 | J5: =INDEX(Calculo!$H$3:$H$10,MATCH(LARGE(Calculo!$K$3:$K$10,1),Calculo!$K$3:$K$10,0)) -> 0 | K5: =IF(AND(INDEX(Calculo!$B$3:$B$10,MATCH(LARGE(Calculo!$K$3:$K$10,1),Calculo!$K$3:$K$10,0))>0,COUNTIF(Calculo!$J$3:$J$10,INDEX(Calculo!$J$3:$J$10,MATCH(LARGE(Calculo!$K$3:$K$10,1),Calculo!$K$3:$K$10,0)))>1),"Empatado em tudo: confira o regulamento","")
A6: 2 | B6: =INDEX(Calculo!$A$3:$A$10,MATCH(LARGE(Calculo!$K$3:$K$10,2),Calculo!$K$3:$K$10,0)) -> Time B | C6: =INDEX(Calculo!$I$3:$I$10,MATCH(LARGE(Calculo!$K$3:$K$10,2),Calculo!$K$3:$K$10,0)) -> 0 | D6: =INDEX(Calculo!$B$3:$B$10,MATCH(LARGE(Calculo!$K$3:$K$10,2),Calculo!$K$3:$K$10,0)) -> 0 | E6: =INDEX(Calculo!$C$3:$C$10,MATCH(LARGE(Calculo!$K$3:$K$10,2),Calculo!$K$3:$K$10,0)) -> 0 | F6: =INDEX(Calculo!$D$3:$D$10,MATCH(LARGE(Calculo!$K$3:$K$10,2),Calculo!$K$3:$K$10,0)) -> 0 | G6: =INDEX(Calculo!$E$3:$E$10,MATCH(LARGE(Calculo!$K$3:$K$10,2),Calculo!$K$3:$K$10,0)) -> 0 | H6: =INDEX(Calculo!$F$3:$F$10,MATCH(LARGE(Calculo!$K$3:$K$10,2),Calculo!$K$3:$K$10,0)) -> 0 | I6: =INDEX(Calculo!$G$3:$G$10,MATCH(LARGE(Calculo!$K$3:$K$10,2),Calculo!$K$3:$K$10,0)) -> 0 | J6: =INDEX(Calculo!$H$3:$H$10,MATCH(LARGE(Calculo!$K$3:$K$10,2),Calculo!$K$3:$K$10,0)) -> 0 | K6: =IF(AND(INDEX(Calculo!$B$3:$B$10,MATCH(LARGE(Calculo!$K$3:$K$10,2),Calculo!$K$3:$K$10,0))>0,COUNTIF(Calculo!$J$3:$J$10,INDEX(Calculo!$J$3:$J$10,MATCH(LARGE(Calculo!$K$3:$K$10,2),Calculo!$K$3:$K$10,0)))>1),"Empatado em tudo: confira o regulamento","")
A7: 3 | B7: =INDEX(Calculo!$A$3:$A$10,MATCH(LARGE(Calculo!$K$3:$K$10,3),Calculo!$K$3:$K$10,0)) -> Time C | C7: =INDEX(Calculo!$I$3:$I$10,MATCH(LARGE(Calculo!$K$3:$K$10,3),Calculo!$K$3:$K$10,0)) -> 0 | D7: =INDEX(Calculo!$B$3:$B$10,MATCH(LARGE(Calculo!$K$3:$K$10,3),Calculo!$K$3:$K$10,0)) -> 0 | E7: =INDEX(Calculo!$C$3:$C$10,MATCH(LARGE(Calculo!$K$3:$K$10,3),Calculo!$K$3:$K$10,0)) -> 0 | F7: =INDEX(Calculo!$D$3:$D$10,MATCH(LARGE(Calculo!$K$3:$K$10,3),Calculo!$K$3:$K$10,0)) -> 0 | G7: =INDEX(Calculo!$E$3:$E$10,MATCH(LARGE(Calculo!$K$3:$K$10,3),Calculo!$K$3:$K$10,0)) -> 0 | H7: =INDEX(Calculo!$F$3:$F$10,MATCH(LARGE(Calculo!$K$3:$K$10,3),Calculo!$K$3:$K$10,0)) -> 0 | I7: =INDEX(Calculo!$G$3:$G$10,MATCH(LARGE(Calculo!$K$3:$K$10,3),Calculo!$K$3:$K$10,0)) -> 0 | J7: =INDEX(Calculo!$H$3:$H$10,MATCH(LARGE(Calculo!$K$3:$K$10,3),Calculo!$K$3:$K$10,0)) -> 0 | K7: =IF(AND(INDEX(Calculo!$B$3:$B$10,MATCH(LARGE(Calculo!$K$3:$K$10,3),Calculo!$K$3:$K$10,0))>0,COUNTIF(Calculo!$J$3:$J$10,INDEX(Calculo!$J$3:$J$10,MATCH(LARGE(Calculo!$K$3:$K$10,3),Calculo!$K$3:$K$10,0)))>1),"Empatado em tudo: confira o regulamento","")
A8: 4 | B8: =INDEX(Calculo!$A$3:$A$10,MATCH(LARGE(Calculo!$K$3:$K$10,4),Calculo!$K$3:$K$10,0)) -> Time D | C8: =INDEX(Calculo!$I$3:$I$10,MATCH(LARGE(Calculo!$K$3:$K$10,4),Calculo!$K$3:$K$10,0)) -> 0 | D8: =INDEX(Calculo!$B$3:$B$10,MATCH(LARGE(Calculo!$K$3:$K$10,4),Calculo!$K$3:$K$10,0)) -> 0 | E8: =INDEX(Calculo!$C$3:$C$10,MATCH(LARGE(Calculo!$K$3:$K$10,4),Calculo!$K$3:$K$10,0)) -> 0 | F8: =INDEX(Calculo!$D$3:$D$10,MATCH(LARGE(Calculo!$K$3:$K$10,4),Calculo!$K$3:$K$10,0)) -> 0 | G8: =INDEX(Calculo!$E$3:$E$10,MATCH(LARGE(Calculo!$K$3:$K$10,4),Calculo!$K$3:$K$10,0)) -> 0 | H8: =INDEX(Calculo!$F$3:$F$10,MATCH(LARGE(Calculo!$K$3:$K$10,4),Calculo!$K$3:$K$10,0)) -> 0 | I8: =INDEX(Calculo!$G$3:$G$10,MATCH(LARGE(Calculo!$K$3:$K$10,4),Calculo!$K$3:$K$10,0)) -> 0 | J8: =INDEX(Calculo!$H$3:$H$10,MATCH(LARGE(Calculo!$K$3:$K$10,4),Calculo!$K$3:$K$10,0)) -> 0 | K8: =IF(AND(INDEX(Calculo!$B$3:$B$10,MATCH(LARGE(Calculo!$K$3:$K$10,4),Calculo!$K$3:$K$10,0))>0,COUNTIF(Calculo!$J$3:$J$10,INDEX(Calculo!$J$3:$J$10,MATCH(LARGE(Calculo!$K$3:$K$10,4),Calculo!$K$3:$K$10,0)))>1),"Empatado em tudo: confira o regulamento","")
A9: 5 | B9: =INDEX(Calculo!$A$3:$A$10,MATCH(LARGE(Calculo!$K$3:$K$10,5),Calculo!$K$3:$K$10,0)) -> Time E | C9: =INDEX(Calculo!$I$3:$I$10,MATCH(LARGE(Calculo!$K$3:$K$10,5),Calculo!$K$3:$K$10,0)) -> 0 | D9: =INDEX(Calculo!$B$3:$B$10,MATCH(LARGE(Calculo!$K$3:$K$10,5),Calculo!$K$3:$K$10,0)) -> 0 | E9: =INDEX(Calculo!$C$3:$C$10,MATCH(LARGE(Calculo!$K$3:$K$10,5),Calculo!$K$3:$K$10,0)) -> 0 | F9: =INDEX(Calculo!$D$3:$D$10,MATCH(LARGE(Calculo!$K$3:$K$10,5),Calculo!$K$3:$K$10,0)) -> 0 | G9: =INDEX(Calculo!$E$3:$E$10,MATCH(LARGE(Calculo!$K$3:$K$10,5),Calculo!$K$3:$K$10,0)) -> 0 | H9: =INDEX(Calculo!$F$3:$F$10,MATCH(LARGE(Calculo!$K$3:$K$10,5),Calculo!$K$3:$K$10,0)) -> 0 | I9: =INDEX(Calculo!$G$3:$G$10,MATCH(LARGE(Calculo!$K$3:$K$10,5),Calculo!$K$3:$K$10,0)) -> 0 | J9: =INDEX(Calculo!$H$3:$H$10,MATCH(LARGE(Calculo!$K$3:$K$10,5),Calculo!$K$3:$K$10,0)) -> 0 | K9: =IF(AND(INDEX(Calculo!$B$3:$B$10,MATCH(LARGE(Calculo!$K$3:$K$10,5),Calculo!$K$3:$K$10,0))>0,COUNTIF(Calculo!$J$3:$J$10,INDEX(Calculo!$J$3:$J$10,MATCH(LARGE(Calculo!$K$3:$K$10,5),Calculo!$K$3:$K$10,0)))>1),"Empatado em tudo: confira o regulamento","")
A10: 6 | B10: =INDEX(Calculo!$A$3:$A$10,MATCH(LARGE(Calculo!$K$3:$K$10,6),Calculo!$K$3:$K$10,0)) -> Time F | C10: =INDEX(Calculo!$I$3:$I$10,MATCH(LARGE(Calculo!$K$3:$K$10,6),Calculo!$K$3:$K$10,0)) -> 0 | D10: =INDEX(Calculo!$B$3:$B$10,MATCH(LARGE(Calculo!$K$3:$K$10,6),Calculo!$K$3:$K$10,0)) -> 0 | E10: =INDEX(Calculo!$C$3:$C$10,MATCH(LARGE(Calculo!$K$3:$K$10,6),Calculo!$K$3:$K$10,0)) -> 0 | F10: =INDEX(Calculo!$D$3:$D$10,MATCH(LARGE(Calculo!$K$3:$K$10,6),Calculo!$K$3:$K$10,0)) -> 0 | G10: =INDEX(Calculo!$E$3:$E$10,MATCH(LARGE(Calculo!$K$3:$K$10,6),Calculo!$K$3:$K$10,0)) -> 0 | H10: =INDEX(Calculo!$F$3:$F$10,MATCH(LARGE(Calculo!$K$3:$K$10,6),Calculo!$K$3:$K$10,0)) -> 0 | I10: =INDEX(Calculo!$G$3:$G$10,MATCH(LARGE(Calculo!$K$3:$K$10,6),Calculo!$K$3:$K$10,0)) -> 0 | J10: =INDEX(Calculo!$H$3:$H$10,MATCH(LARGE(Calculo!$K$3:$K$10,6),Calculo!$K$3:$K$10,0)) -> 0 | K10: =IF(AND(INDEX(Calculo!$B$3:$B$10,MATCH(LARGE(Calculo!$K$3:$K$10,6),Calculo!$K$3:$K$10,0))>0,COUNTIF(Calculo!$J$3:$J$10,INDEX(Calculo!$J$3:$J$10,MATCH(LARGE(Calculo!$K$3:$K$10,6),Calculo!$K$3:$K$10,0)))>1),"Empatado em tudo: confira o regulamento","")
A11: 7 | B11: =INDEX(Calculo!$A$3:$A$10,MATCH(LARGE(Calculo!$K$3:$K$10,7),Calculo!$K$3:$K$10,0)) -> Time G | C11: =INDEX(Calculo!$I$3:$I$10,MATCH(LARGE(Calculo!$K$3:$K$10,7),Calculo!$K$3:$K$10,0)) -> 0 | D11: =INDEX(Calculo!$B$3:$B$10,MATCH(LARGE(Calculo!$K$3:$K$10,7),Calculo!$K$3:$K$10,0)) -> 0 | E11: =INDEX(Calculo!$C$3:$C$10,MATCH(LARGE(Calculo!$K$3:$K$10,7),Calculo!$K$3:$K$10,0)) -> 0 | F11: =INDEX(Calculo!$D$3:$D$10,MATCH(LARGE(Calculo!$K$3:$K$10,7),Calculo!$K$3:$K$10,0)) -> 0 | G11: =INDEX(Calculo!$E$3:$E$10,MATCH(LARGE(Calculo!$K$3:$K$10,7),Calculo!$K$3:$K$10,0)) -> 0 | H11: =INDEX(Calculo!$F$3:$F$10,MATCH(LARGE(Calculo!$K$3:$K$10,7),Calculo!$K$3:$K$10,0)) -> 0 | I11: =INDEX(Calculo!$G$3:$G$10,MATCH(LARGE(Calculo!$K$3:$K$10,7),Calculo!$K$3:$K$10,0)) -> 0 | J11: =INDEX(Calculo!$H$3:$H$10,MATCH(LARGE(Calculo!$K$3:$K$10,7),Calculo!$K$3:$K$10,0)) -> 0 | K11: =IF(AND(INDEX(Calculo!$B$3:$B$10,MATCH(LARGE(Calculo!$K$3:$K$10,7),Calculo!$K$3:$K$10,0))>0,COUNTIF(Calculo!$J$3:$J$10,INDEX(Calculo!$J$3:$J$10,MATCH(LARGE(Calculo!$K$3:$K$10,7),Calculo!$K$3:$K$10,0)))>1),"Empatado em tudo: confira o regulamento","")
A12: 8 | B12: =INDEX(Calculo!$A$3:$A$10,MATCH(LARGE(Calculo!$K$3:$K$10,8),Calculo!$K$3:$K$10,0)) -> Time H | C12: =INDEX(Calculo!$I$3:$I$10,MATCH(LARGE(Calculo!$K$3:$K$10,8),Calculo!$K$3:$K$10,0)) -> 0 | D12: =INDEX(Calculo!$B$3:$B$10,MATCH(LARGE(Calculo!$K$3:$K$10,8),Calculo!$K$3:$K$10,0)) -> 0 | E12: =INDEX(Calculo!$C$3:$C$10,MATCH(LARGE(Calculo!$K$3:$K$10,8),Calculo!$K$3:$K$10,0)) -> 0 | F12: =INDEX(Calculo!$D$3:$D$10,MATCH(LARGE(Calculo!$K$3:$K$10,8),Calculo!$K$3:$K$10,0)) -> 0 | G12: =INDEX(Calculo!$E$3:$E$10,MATCH(LARGE(Calculo!$K$3:$K$10,8),Calculo!$K$3:$K$10,0)) -> 0 | H12: =INDEX(Calculo!$F$3:$F$10,MATCH(LARGE(Calculo!$K$3:$K$10,8),Calculo!$K$3:$K$10,0)) -> 0 | I12: =INDEX(Calculo!$G$3:$G$10,MATCH(LARGE(Calculo!$K$3:$K$10,8),Calculo!$K$3:$K$10,0)) -> 0 | J12: =INDEX(Calculo!$H$3:$H$10,MATCH(LARGE(Calculo!$K$3:$K$10,8),Calculo!$K$3:$K$10,0)) -> 0 | K12: =IF(AND(INDEX(Calculo!$B$3:$B$10,MATCH(LARGE(Calculo!$K$3:$K$10,8),Calculo!$K$3:$K$10,0))>0,COUNTIF(Calculo!$J$3:$J$10,INDEX(Calculo!$J$3:$J$10,MATCH(LARGE(Calculo!$K$3:$K$10,8),Calculo!$K$3:$K$10,0)))>1),"Empatado em tudo: confira o regulamento","")
A14: Antes do primeiro placar, os times aparecem na ordem da aba Times.

Sheet Artilharia
A1: Artilharia
A2: Escreva o jogador, escolha o time e some os gols. O ranking ao lado se ordena sozinho.
A4: Jogador | B4: Time | C4: Gols | F4: Pos. | G4: Jogador | H4: Time | I4: Gols
D5: =IF(AND(A5<>"",ISNUMBER(C5)),C5*1000+(105-ROW()),"") | F5: =IF(COUNT($D$5:$D$104)>=1,1,"") | G5: =IFERROR(INDEX($A$5:$A$104,MATCH(LARGE($D$5:$D$104,1),$D$5:$D$104,0)),"") | H5: =IFERROR(INDEX($B$5:$B$104,MATCH(LARGE($D$5:$D$104,1),$D$5:$D$104,0)),"") | I5: =IFERROR(INDEX($C$5:$C$104,MATCH(LARGE($D$5:$D$104,1),$D$5:$D$104,0)),"")
D6: =IF(AND(A6<>"",ISNUMBER(C6)),C6*1000+(105-ROW()),"") | F6: =IF(COUNT($D$5:$D$104)>=2,2,"") | G6: =IFERROR(INDEX($A$5:$A$104,MATCH(LARGE($D$5:$D$104,2),$D$5:$D$104,0)),"") | H6: =IFERROR(INDEX($B$5:$B$104,MATCH(LARGE($D$5:$D$104,2),$D$5:$D$104,0)),"") | I6: =IFERROR(INDEX($C$5:$C$104,MATCH(LARGE($D$5:$D$104,2),$D$5:$D$104,0)),"")
D7: =IF(AND(A7<>"",ISNUMBER(C7)),C7*1000+(105-ROW()),"") | F7: =IF(COUNT($D$5:$D$104)>=3,3,"") | G7: =IFERROR(INDEX($A$5:$A$104,MATCH(LARGE($D$5:$D$104,3),$D$5:$D$104,0)),"") | H7: =IFERROR(INDEX($B$5:$B$104,MATCH(LARGE($D$5:$D$104,3),$D$5:$D$104,0)),"") | I7: =IFERROR(INDEX($C$5:$C$104,MATCH(LARGE($D$5:$D$104,3),$D$5:$D$104,0)),"")
D8: =IF(AND(A8<>"",ISNUMBER(C8)),C8*1000+(105-ROW()),"") | F8: =IF(COUNT($D$5:$D$104)>=4,4,"") | G8: =IFERROR(INDEX($A$5:$A$104,MATCH(LARGE($D$5:$D$104,4),$D$5:$D$104,0)),"") | H8: =IFERROR(INDEX($B$5:$B$104,MATCH(LARGE($D$5:$D$104,4),$D$5:$D$104,0)),"") | I8: =IFERROR(INDEX($C$5:$C$104,MATCH(LARGE($D$5:$D$104,4),$D$5:$D$104,0)),"")
D9: =IF(AND(A9<>"",ISNUMBER(C9)),C9*1000+(105-ROW()),"") | F9: =IF(COUNT($D$5:$D$104)>=5,5,"") | G9: =IFERROR(INDEX($A$5:$A$104,MATCH(LARGE($D$5:$D$104,5),$D$5:$D$104,0)),"") | H9: =IFERROR(INDEX($B$5:$B$104,MATCH(LARGE($D$5:$D$104,5),$D$5:$D$104,0)),"") | I9: =IFERROR(INDEX($C$5:$C$104,MATCH(LARGE($D$5:$D$104,5),$D$5:$D$104,0)),"")
D10: =IF(AND(A10<>"",ISNUMBER(C10)),C10*1000+(105-ROW()),"") | F10: =IF(COUNT($D$5:$D$104)>=6,6,"") | G10: =IFERROR(INDEX($A$5:$A$104,MATCH(LARGE($D$5:$D$104,6),$D$5:$D$104,0)),"") | H10: =IFERROR(INDEX($B$5:$B$104,MATCH(LARGE($D$5:$D$104,6),$D$5:$D$104,0)),"") | I10: =IFERROR(INDEX($C$5:$C$104,MATCH(LARGE($D$5:$D$104,6),$D$5:$D$104,0)),"")
D11: =IF(AND(A11<>"",ISNUMBER(C11)),C11*1000+(105-ROW()),"") | F11: =IF(COUNT($D$5:$D$104)>=7,7,"") | G11: =IFERROR(INDEX($A$5:$A$104,MATCH(LARGE($D$5:$D$104,7),$D$5:$D$104,0)),"") | H11: =IFERROR(INDEX($B$5:$B$104,MATCH(LARGE($D$5:$D$104,7),$D$5:$D$104,0)),"") | I11: =IFERROR(INDEX($C$5:$C$104,MATCH(LARGE($D$5:$D$104,7),$D$5:$D$104,0)),"")
D12: =IF(AND(A12<>"",ISNUMBER(C12)),C12*1000+(105-ROW()),"") | F12: =IF(COUNT($D$5:$D$104)>=8,8,"") | G12: =IFERROR(INDEX($A$5:$A$104,MATCH(LARGE($D$5:$D$104,8),$D$5:$D$104,0)),"") | H12: =IFERROR(INDEX($B$5:$B$104,MATCH(LARGE($D$5:$D$104,8),$D$5:$D$104,0)),"") | I12: =IFERROR(INDEX($C$5:$C$104,MATCH(LARGE($D$5:$D$104,8),$D$5:$D$104,0)),"")
D13: =IF(AND(A13<>"",ISNUMBER(C13)),C13*1000+(105-ROW()),"") | F13: =IF(COUNT($D$5:$D$104)>=9,9,"") | G13: =IFERROR(INDEX($A$5:$A$104,MATCH(LARGE($D$5:$D$104,9),$D$5:$D$104,0)),"") | H13: =IFERROR(INDEX($B$5:$B$104,MATCH(LARGE($D$5:$D$104,9),$D$5:$D$104,0)),"") | I13: =IFERROR(INDEX($C$5:$C$104,MATCH(LARGE($D$5:$D$104,9),$D$5:$D$104,0)),"")
D14: =IF(AND(A14<>"",ISNUMBER(C14)),C14*1000+(105-ROW()),"") | F14: =IF(COUNT($D$5:$D$104)>=10,10,"") | G14: =IFERROR(INDEX($A$5:$A$104,MATCH(LARGE($D$5:$D$104,10),$D$5:$D$104,0)),"") | H14: =IFERROR(INDEX($B$5:$B$104,MATCH(LARGE($D$5:$D$104,10),$D$5:$D$104,0)),"") | I14: =IFERROR(INDEX($C$5:$C$104,MATCH(LARGE($D$5:$D$104,10),$D$5:$D$104,0)),"")
D15: =IF(AND(A15<>"",ISNUMBER(C15)),C15*1000+(105-ROW()),"") | F15: =IF(COUNT($D$5:$D$104)>=11,11,"") | G15: =IFERROR(INDEX($A$5:$A$104,MATCH(LARGE($D$5:$D$104,11),$D$5:$D$104,0)),"") | H15: =IFERROR(INDEX($B$5:$B$104,MATCH(LARGE($D$5:$D$104,11),$D$5:$D$104,0)),"") | I15: =IFERROR(INDEX($C$5:$C$104,MATCH(LARGE($D$5:$D$104,11),$D$5:$D$104,0)),"")
D16: =IF(AND(A16<>"",ISNUMBER(C16)),C16*1000+(105-ROW()),"") | F16: =IF(COUNT($D$5:$D$104)>=12,12,"") | G16: =IFERROR(INDEX($A$5:$A$104,MATCH(LARGE($D$5:$D$104,12),$D$5:$D$104,0)),"") | H16: =IFERROR(INDEX($B$5:$B$104,MATCH(LARGE($D$5:$D$104,12),$D$5:$D$104,0)),"") | I16: =IFERROR(INDEX($C$5:$C$104,MATCH(LARGE($D$5:$D$104,12),$D$5:$D$104,0)),"")
D17: =IF(AND(A17<>"",ISNUMBER(C17)),C17*1000+(105-ROW()),"") | F17: =IF(COUNT($D$5:$D$104)>=13,13,"") | G17: =IFERROR(INDEX($A$5:$A$104,MATCH(LARGE($D$5:$D$104,13),$D$5:$D$104,0)),"") | H17: =IFERROR(INDEX($B$5:$B$104,MATCH(LARGE($D$5:$D$104,13),$D$5:$D$104,0)),"") | I17: =IFERROR(INDEX($C$5:$C$104,MATCH(LARGE($D$5:$D$104,13),$D$5:$D$104,0)),"")
D18: =IF(AND(A18<>"",ISNUMBER(C18)),C18*1000+(105-ROW()),"") | F18: =IF(COUNT($D$5:$D$104)>=14,14,"") | G18: =IFERROR(INDEX($A$5:$A$104,MATCH(LARGE($D$5:$D$104,14),$D$5:$D$104,0)),"") | H18: =IFERROR(INDEX($B$5:$B$104,MATCH(LARGE($D$5:$D$104,14),$D$5:$D$104,0)),"") | I18: =IFERROR(INDEX($C$5:$C$104,MATCH(LARGE($D$5:$D$104,14),$D$5:$D$104,0)),"")
D19: =IF(AND(A19<>"",ISNUMBER(C19)),C19*1000+(105-ROW()),"") | F19: =IF(COUNT($D$5:$D$104)>=15,15,"") | G19: =IFERROR(INDEX($A$5:$A$104,MATCH(LARGE($D$5:$D$104,15),$D$5:$D$104,0)),"") | H19: =IFERROR(INDEX($B$5:$B$104,MATCH(LARGE($D$5:$D$104,15),$D$5:$D$104,0)),"") | I19: =IFERROR(INDEX($C$5:$C$104,MATCH(LARGE($D$5:$D$104,15),$D$5:$D$104,0)),"")
D20: =IF(AND(A20<>"",ISNUMBER(C20)),C20*1000+(105-ROW()),"") | F20: =IF(COUNT($D$5:$D$104)>=16,16,"") | G20: =IFERROR(INDEX($A$5:$A$104,MATCH(LARGE($D$5:$D$104,16),$D$5:$D$104,0)),"") | H20: =IFERROR(INDEX($B$5:$B$104,MATCH(LARGE($D$5:$D$104,16),$D$5:$D$104,0)),"") | I20: =IFERROR(INDEX($C$5:$C$104,MATCH(LARGE($D$5:$D$104,16),$D$5:$D$104,0)),"")
D21: =IF(AND(A21<>"",ISNUMBER(C21)),C21*1000+(105-ROW()),"") | F21: =IF(COUNT($D$5:$D$104)>=17,17,"") | G21: =IFERROR(INDEX($A$5:$A$104,MATCH(LARGE($D$5:$D$104,17),$D$5:$D$104,0)),"") | H21: =IFERROR(INDEX($B$5:$B$104,MATCH(LARGE($D$5:$D$104,17),$D$5:$D$104,0)),"") | I21: =IFERROR(INDEX($C$5:$C$104,MATCH(LARGE($D$5:$D$104,17),$D$5:$D$104,0)),"")
D22: =IF(AND(A22<>"",ISNUMBER(C22)),C22*1000+(105-ROW()),"") | F22: =IF(COUNT($D$5:$D$104)>=18,18,"") | G22: =IFERROR(INDEX($A$5:$A$104,MATCH(LARGE($D$5:$D$104,18),$D$5:$D$104,0)),"") | H22: =IFERROR(INDEX($B$5:$B$104,MATCH(LARGE($D$5:$D$104,18),$D$5:$D$104,0)),"") | I22: =IFERROR(INDEX($C$5:$C$104,MATCH(LARGE($D$5:$D$104,18),$D$5:$D$104,0)),"")
D23: =IF(AND(A23<>"",ISNUMBER(C23)),C23*1000+(105-ROW()),"") | F23: =IF(COUNT($D$5:$D$104)>=19,19,"") | G23: =IFERROR(INDEX($A$5:$A$104,MATCH(LARGE($D$5:$D$104,19),$D$5:$D$104,0)),"") | H23: =IFERROR(INDEX($B$5:$B$104,MATCH(LARGE($D$5:$D$104,19),$D$5:$D$104,0)),"") | I23: =IFERROR(INDEX($C$5:$C$104,MATCH(LARGE($D$5:$D$104,19),$D$5:$D$104,0)),"")
D24: =IF(AND(A24<>"",ISNUMBER(C24)),C24*1000+(105-ROW()),"") | F24: =IF(COUNT($D$5:$D$104)>=20,20,"") | G24: =IFERROR(INDEX($A$5:$A$104,MATCH(LARGE($D$5:$D$104,20),$D$5:$D$104,0)),"") | H24: =IFERROR(INDEX($B$5:$B$104,MATCH(LARGE($D$5:$D$104,20),$D$5:$D$104,0)),"") | I24: =IFERROR(INDEX($C$5:$C$104,MATCH(LARGE($D$5:$D$104,20),$D$5:$D$104,0)),"")
D25: =IF(AND(A25<>"",ISNUMBER(C25)),C25*1000+(105-ROW()),"")
D26: =IF(AND(A26<>"",ISNUMBER(C26)),C26*1000+(105-ROW()),"")
D27: =IF(AND(A27<>"",ISNUMBER(C27)),C27*1000+(105-ROW()),"")
D28: =IF(AND(A28<>"",ISNUMBER(C28)),C28*1000+(105-ROW()),"")
D29: =IF(AND(A29<>"",ISNUMBER(C29)),C29*1000+(105-ROW()),"")
D30: =IF(AND(A30<>"",ISNUMBER(C30)),C30*1000+(105-ROW()),"")
D31: =IF(AND(A31<>"",ISNUMBER(C31)),C31*1000+(105-ROW()),"")
D32: =IF(AND(A32<>"",ISNUMBER(C32)),C32*1000+(105-ROW()),"")
D33: =IF(AND(A33<>"",ISNUMBER(C33)),C33*1000+(105-ROW()),"")
D34: =IF(AND(A34<>"",ISNUMBER(C34)),C34*1000+(105-ROW()),"")
D35: =IF(AND(A35<>"",ISNUMBER(C35)),C35*1000+(105-ROW()),"")
D36: =IF(AND(A36<>"",ISNUMBER(C36)),C36*1000+(105-ROW()),"")
... D104: =IF(AND(A104<>"",ISNUMBER(C104)),C104*1000+(105-ROW()),"")

Sheet Calculo
A1: Aba de apoio da Classificação. Não precisa mexer aqui.
A2: Time | B2: J | C2: V | D2: E | E2: D | F2: GP | G2: GC | H2: SG | I2: P | J2: Base | K2: Chave
A3: =Times!$B$5&"" -> Time A | B3: =SUMPRODUCT((Jogos!$F$5:$F$62=$A3)*ISNUMBER(Jogos!$G$5:$G$62)*ISNUMBER(Jogos!$I$5:$I$62))+SUMPRODUCT((Jogos!$J$5:$J$62=$A3)*ISNUMBER(Jogos!$G$5:$G$62)*ISNUMBER(Jogos!$I$5:$I$62)) -> 0 | C3: =SUMPRODUCT((Jogos!$F$5:$F$62=$A3)*ISNUMBER(Jogos!$G$5:$G$62)*ISNUMBER(Jogos!$I$5:$I$62)*(Jogos!$G$5:$G$62>Jogos!$I$5:$I$62))+SUMPRODUCT((Jogos!$J$5:$J$62=$A3)*ISNUMBER(Jogos!$G$5:$G$62)*ISNUMBER(Jogos!$I$5:$I$62)*(Jogos!$I$5:$I$62>Jogos!$G$5:$G$62)) -> 0 | D3: =SUMPRODUCT((Jogos!$F$5:$F$62=$A3)*ISNUMBER(Jogos!$G$5:$G$62)*ISNUMBER(Jogos!$I$5:$I$62)*(Jogos!$G$5:$G$62=Jogos!$I$5:$I$62))+SUMPRODUCT((Jogos!$J$5:$J$62=$A3)*ISNUMBER(Jogos!$G$5:$G$62)*ISNUMBER(Jogos!$I$5:$I$62)*(Jogos!$I$5:$I$62=Jogos!$G$5:$G$62)) -> 0 | E3: =B3-C3-D3 -> 0 | F3: =SUMPRODUCT((Jogos!$F$5:$F$62=$A3)*ISNUMBER(Jogos!$G$5:$G$62)*ISNUMBER(Jogos!$I$5:$I$62),Jogos!$G$5:$G$62)+SUMPRODUCT((Jogos!$J$5:$J$62=$A3)*ISNUMBER(Jogos!$G$5:$G$62)*ISNUMBER(Jogos!$I$5:$I$62),Jogos!$I$5:$I$62) -> 0 | G3: =SUMPRODUCT((Jogos!$F$5:$F$62=$A3)*ISNUMBER(Jogos!$G$5:$G$62)*ISNUMBER(Jogos!$I$5:$I$62),Jogos!$I$5:$I$62)+SUMPRODUCT((Jogos!$J$5:$J$62=$A3)*ISNUMBER(Jogos!$G$5:$G$62)*ISNUMBER(Jogos!$I$5:$I$62),Jogos!$G$5:$G$62) -> 0 | H3: =F3-G3 -> 0 | I3: =3*C3+D3 -> 0 | J3: =I3*1000000000+C3*10000000+(H3+1000)*1000+MIN(F3,999) -> 1000000 | K3: =J3*100+(99-0) -> 100000099
A4: =Times!$B$6&"" -> Time B | B4: =SUMPRODUCT((Jogos!$F$5:$F$62=$A4)*ISNUMBER(Jogos!$G$5:$G$62)*ISNUMBER(Jogos!$I$5:$I$62))+SUMPRODUCT((Jogos!$J$5:$J$62=$A4)*ISNUMBER(Jogos!$G$5:$G$62)*ISNUMBER(Jogos!$I$5:$I$62)) -> 0 | C4: =SUMPRODUCT((Jogos!$F$5:$F$62=$A4)*ISNUMBER(Jogos!$G$5:$G$62)*ISNUMBER(Jogos!$I$5:$I$62)*(Jogos!$G$5:$G$62>Jogos!$I$5:$I$62))+SUMPRODUCT((Jogos!$J$5:$J$62=$A4)*ISNUMBER(Jogos!$G$5:$G$62)*ISNUMBER(Jogos!$I$5:$I$62)*(Jogos!$I$5:$I$62>Jogos!$G$5:$G$62)) -> 0 | D4: =SUMPRODUCT((Jogos!$F$5:$F$62=$A4)*ISNUMBER(Jogos!$G$5:$G$62)*ISNUMBER(Jogos!$I$5:$I$62)*(Jogos!$G$5:$G$62=Jogos!$I$5:$I$62))+SUMPRODUCT((Jogos!$J$5:$J$62=$A4)*ISNUMBER(Jogos!$G$5:$G$62)*ISNUMBER(Jogos!$I$5:$I$62)*(Jogos!$I$5:$I$62=Jogos!$G$5:$G$62)) -> 0 | E4: =B4-C4-D4 -> 0 | F4: =SUMPRODUCT((Jogos!$F$5:$F$62=$A4)*ISNUMBER(Jogos!$G$5:$G$62)*ISNUMBER(Jogos!$I$5:$I$62),Jogos!$G$5:$G$62)+SUMPRODUCT((Jogos!$J$5:$J$62=$A4)*ISNUMBER(Jogos!$G$5:$G$62)*ISNUMBER(Jogos!$I$5:$I$62),Jogos!$I$5:$I$62) -> 0 | G4: =SUMPRODUCT((Jogos!$F$5:$F$62=$A4)*ISNUMBER(Jogos!$G$5:$G$62)*ISNUMBER(Jogos!$I$5:$I$62),Jogos!$I$5:$I$62)+SUMPRODUCT((Jogos!$J$5:$J$62=$A4)*ISNUMBER(Jogos!$G$5:$G$62)*ISNUMBER(Jogos!$I$5:$I$62),Jogos!$G$5:$G$62) -> 0 | H4: =F4-G4 -> 0 | I4: =3*C4+D4 -> 0 | J4: =I4*1000000000+C4*10000000+(H4+1000)*1000+MIN(F4,999) -> 1000000 | K4: =J4*100+(99-1) -> 100000098
A5: =Times!$B$7&"" -> Time C | B5: =SUMPRODUCT((Jogos!$F$5:$F$62=$A5)*ISNUMBER(Jogos!$G$5:$G$62)*ISNUMBER(Jogos!$I$5:$I$62))+SUMPRODUCT((Jogos!$J$5:$J$62=$A5)*ISNUMBER(Jogos!$G$5:$G$62)*ISNUMBER(Jogos!$I$5:$I$62)) -> 0 | C5: =SUMPRODUCT((Jogos!$F$5:$F$62=$A5)*ISNUMBER(Jogos!$G$5:$G$62)*ISNUMBER(Jogos!$I$5:$I$62)*(Jogos!$G$5:$G$62>Jogos!$I$5:$I$62))+SUMPRODUCT((Jogos!$J$5:$J$62=$A5)*ISNUMBER(Jogos!$G$5:$G$62)*ISNUMBER(Jogos!$I$5:$I$62)*(Jogos!$I$5:$I$62>Jogos!$G$5:$G$62)) -> 0 | D5: =SUMPRODUCT((Jogos!$F$5:$F$62=$A5)*ISNUMBER(Jogos!$G$5:$G$62)*ISNUMBER(Jogos!$I$5:$I$62)*(Jogos!$G$5:$G$62=Jogos!$I$5:$I$62))+SUMPRODUCT((Jogos!$J$5:$J$62=$A5)*ISNUMBER(Jogos!$G$5:$G$62)*ISNUMBER(Jogos!$I$5:$I$62)*(Jogos!$I$5:$I$62=Jogos!$G$5:$G$62)) -> 0 | E5: =B5-C5-D5 -> 0 | F5: =SUMPRODUCT((Jogos!$F$5:$F$62=$A5)*ISNUMBER(Jogos!$G$5:$G$62)*ISNUMBER(Jogos!$I$5:$I$62),Jogos!$G$5:$G$62)+SUMPRODUCT((Jogos!$J$5:$J$62=$A5)*ISNUMBER(Jogos!$G$5:$G$62)*ISNUMBER(Jogos!$I$5:$I$62),Jogos!$I$5:$I$62) -> 0 | G5: =SUMPRODUCT((Jogos!$F$5:$F$62=$A5)*ISNUMBER(Jogos!$G$5:$G$62)*ISNUMBER(Jogos!$I$5:$I$62),Jogos!$I$5:$I$62)+SUMPRODUCT((Jogos!$J$5:$J$62=$A5)*ISNUMBER(Jogos!$G$5:$G$62)*ISNUMBER(Jogos!$I$5:$I$62),Jogos!$G$5:$G$62) -> 0 | H5: =F5-G5 -> 0 | I5: =3*C5+D5 -> 0 | J5: =I5*1000000000+C5*10000000+(H5+1000)*1000+MIN(F5,999) -> 1000000 | K5: =J5*100+(99-2) -> 100000097
A6: =Times!$B$8&"" -> Time D | B6: =SUMPRODUCT((Jogos!$F$5:$F$62=$A6)*ISNUMBER(Jogos!$G$5:$G$62)*ISNUMBER(Jogos!$I$5:$I$62))+SUMPRODUCT((Jogos!$J$5:$J$62=$A6)*ISNUMBER(Jogos!$G$5:$G$62)*ISNUMBER(Jogos!$I$5:$I$62)) -> 0 | C6: =SUMPRODUCT((Jogos!$F$5:$F$62=$A6)*ISNUMBER(Jogos!$G$5:$G$62)*ISNUMBER(Jogos!$I$5:$I$62)*(Jogos!$G$5:$G$62>Jogos!$I$5:$I$62))+SUMPRODUCT((Jogos!$J$5:$J$62=$A6)*ISNUMBER(Jogos!$G$5:$G$62)*ISNUMBER(Jogos!$I$5:$I$62)*(Jogos!$I$5:$I$62>Jogos!$G$5:$G$62)) -> 0 | D6: =SUMPRODUCT((Jogos!$F$5:$F$62=$A6)*ISNUMBER(Jogos!$G$5:$G$62)*ISNUMBER(Jogos!$I$5:$I$62)*(Jogos!$G$5:$G$62=Jogos!$I$5:$I$62))+SUMPRODUCT((Jogos!$J$5:$J$62=$A6)*ISNUMBER(Jogos!$G$5:$G$62)*ISNUMBER(Jogos!$I$5:$I$62)*(Jogos!$I$5:$I$62=Jogos!$G$5:$G$62)) -> 0 | E6: =B6-C6-D6 -> 0 | F6: =SUMPRODUCT((Jogos!$F$5:$F$62=$A6)*ISNUMBER(Jogos!$G$5:$G$62)*ISNUMBER(Jogos!$I$5:$I$62),Jogos!$G$5:$G$62)+SUMPRODUCT((Jogos!$J$5:$J$62=$A6)*ISNUMBER(Jogos!$G$5:$G$62)*ISNUMBER(Jogos!$I$5:$I$62),Jogos!$I$5:$I$62) -> 0 | G6: =SUMPRODUCT((Jogos!$F$5:$F$62=$A6)*ISNUMBER(Jogos!$G$5:$G$62)*ISNUMBER(Jogos!$I$5:$I$62),Jogos!$I$5:$I$62)+SUMPRODUCT((Jogos!$J$5:$J$62=$A6)*ISNUMBER(Jogos!$G$5:$G$62)*ISNUMBER(Jogos!$I$5:$I$62),Jogos!$G$5:$G$62) -> 0 | H6: =F6-G6 -> 0 | I6: =3*C6+D6 -> 0 | J6: =I6*1000000000+C6*10000000+(H6+1000)*1000+MIN(F6,999) -> 1000000 | K6: =J6*100+(99-3) -> 100000096
A7: =Times!$B$9&"" -> Time E | B7: =SUMPRODUCT((Jogos!$F$5:$F$62=$A7)*ISNUMBER(Jogos!$G$5:$G$62)*ISNUMBER(Jogos!$I$5:$I$62))+SUMPRODUCT((Jogos!$J$5:$J$62=$A7)*ISNUMBER(Jogos!$G$5:$G$62)*ISNUMBER(Jogos!$I$5:$I$62)) -> 0 | C7: =SUMPRODUCT((Jogos!$F$5:$F$62=$A7)*ISNUMBER(Jogos!$G$5:$G$62)*ISNUMBER(Jogos!$I$5:$I$62)*(Jogos!$G$5:$G$62>Jogos!$I$5:$I$62))+SUMPRODUCT((Jogos!$J$5:$J$62=$A7)*ISNUMBER(Jogos!$G$5:$G$62)*ISNUMBER(Jogos!$I$5:$I$62)*(Jogos!$I$5:$I$62>Jogos!$G$5:$G$62)) -> 0 | D7: =SUMPRODUCT((Jogos!$F$5:$F$62=$A7)*ISNUMBER(Jogos!$G$5:$G$62)*ISNUMBER(Jogos!$I$5:$I$62)*(Jogos!$G$5:$G$62=Jogos!$I$5:$I$62))+SUMPRODUCT((Jogos!$J$5:$J$62=$A7)*ISNUMBER(Jogos!$G$5:$G$62)*ISNUMBER(Jogos!$I$5:$I$62)*(Jogos!$I$5:$I$62=Jogos!$G$5:$G$62)) -> 0 | E7: =B7-C7-D7 -> 0 | F7: =SUMPRODUCT((Jogos!$F$5:$F$62=$A7)*ISNUMBER(Jogos!$G$5:$G$62)*ISNUMBER(Jogos!$I$5:$I$62),Jogos!$G$5:$G$62)+SUMPRODUCT((Jogos!$J$5:$J$62=$A7)*ISNUMBER(Jogos!$G$5:$G$62)*ISNUMBER(Jogos!$I$5:$I$62),Jogos!$I$5:$I$62) -> 0 | G7: =SUMPRODUCT((Jogos!$F$5:$F$62=$A7)*ISNUMBER(Jogos!$G$5:$G$62)*ISNUMBER(Jogos!$I$5:$I$62),Jogos!$I$5:$I$62)+SUMPRODUCT((Jogos!$J$5:$J$62=$A7)*ISNUMBER(Jogos!$G$5:$G$62)*ISNUMBER(Jogos!$I$5:$I$62),Jogos!$G$5:$G$62) -> 0 | H7: =F7-G7 -> 0 | I7: =3*C7+D7 -> 0 | J7: =I7*1000000000+C7*10000000+(H7+1000)*1000+MIN(F7,999) -> 1000000 | K7: =J7*100+(99-4) -> 100000095
A8: =Times!$B$10&"" -> Time F | B8: =SUMPRODUCT((Jogos!$F$5:$F$62=$A8)*ISNUMBER(Jogos!$G$5:$G$62)*ISNUMBER(Jogos!$I$5:$I$62))+SUMPRODUCT((Jogos!$J$5:$J$62=$A8)*ISNUMBER(Jogos!$G$5:$G$62)*ISNUMBER(Jogos!$I$5:$I$62)) -> 0 | C8: =SUMPRODUCT((Jogos!$F$5:$F$62=$A8)*ISNUMBER(Jogos!$G$5:$G$62)*ISNUMBER(Jogos!$I$5:$I$62)*(Jogos!$G$5:$G$62>Jogos!$I$5:$I$62))+SUMPRODUCT((Jogos!$J$5:$J$62=$A8)*ISNUMBER(Jogos!$G$5:$G$62)*ISNUMBER(Jogos!$I$5:$I$62)*(Jogos!$I$5:$I$62>Jogos!$G$5:$G$62)) -> 0 | D8: =SUMPRODUCT((Jogos!$F$5:$F$62=$A8)*ISNUMBER(Jogos!$G$5:$G$62)*ISNUMBER(Jogos!$I$5:$I$62)*(Jogos!$G$5:$G$62=Jogos!$I$5:$I$62))+SUMPRODUCT((Jogos!$J$5:$J$62=$A8)*ISNUMBER(Jogos!$G$5:$G$62)*ISNUMBER(Jogos!$I$5:$I$62)*(Jogos!$I$5:$I$62=Jogos!$G$5:$G$62)) -> 0 | E8: =B8-C8-D8 -> 0 | F8: =SUMPRODUCT((Jogos!$F$5:$F$62=$A8)*ISNUMBER(Jogos!$G$5:$G$62)*ISNUMBER(Jogos!$I$5:$I$62),Jogos!$G$5:$G$62)+SUMPRODUCT((Jogos!$J$5:$J$62=$A8)*ISNUMBER(Jogos!$G$5:$G$62)*ISNUMBER(Jogos!$I$5:$I$62),Jogos!$I$5:$I$62) -> 0 | G8: =SUMPRODUCT((Jogos!$F$5:$F$62=$A8)*ISNUMBER(Jogos!$G$5:$G$62)*ISNUMBER(Jogos!$I$5:$I$62),Jogos!$I$5:$I$62)+SUMPRODUCT((Jogos!$J$5:$J$62=$A8)*ISNUMBER(Jogos!$G$5:$G$62)*ISNUMBER(Jogos!$I$5:$I$62),Jogos!$G$5:$G$62) -> 0 | H8: =F8-G8 -> 0 | I8: =3*C8+D8 -> 0 | J8: =I8*1000000000+C8*10000000+(H8+1000)*1000+MIN(F8,999) -> 1000000 | K8: =J8*100+(99-5) -> 100000094
A9: =Times!$B$11&"" -> Time G | B9: =SUMPRODUCT((Jogos!$F$5:$F$62=$A9)*ISNUMBER(Jogos!$G$5:$G$62)*ISNUMBER(Jogos!$I$5:$I$62))+SUMPRODUCT((Jogos!$J$5:$J$62=$A9)*ISNUMBER(Jogos!$G$5:$G$62)*ISNUMBER(Jogos!$I$5:$I$62)) -> 0 | C9: =SUMPRODUCT((Jogos!$F$5:$F$62=$A9)*ISNUMBER(Jogos!$G$5:$G$62)*ISNUMBER(Jogos!$I$5:$I$62)*(Jogos!$G$5:$G$62>Jogos!$I$5:$I$62))+SUMPRODUCT((Jogos!$J$5:$J$62=$A9)*ISNUMBER(Jogos!$G$5:$G$62)*ISNUMBER(Jogos!$I$5:$I$62)*(Jogos!$I$5:$I$62>Jogos!$G$5:$G$62)) -> 0 | D9: =SUMPRODUCT((Jogos!$F$5:$F$62=$A9)*ISNUMBER(Jogos!$G$5:$G$62)*ISNUMBER(Jogos!$I$5:$I$62)*(Jogos!$G$5:$G$62=Jogos!$I$5:$I$62))+SUMPRODUCT((Jogos!$J$5:$J$62=$A9)*ISNUMBER(Jogos!$G$5:$G$62)*ISNUMBER(Jogos!$I$5:$I$62)*(Jogos!$I$5:$I$62=Jogos!$G$5:$G$62)) -> 0 | E9: =B9-C9-D9 -> 0 | F9: =SUMPRODUCT((Jogos!$F$5:$F$62=$A9)*ISNUMBER(Jogos!$G$5:$G$62)*ISNUMBER(Jogos!$I$5:$I$62),Jogos!$G$5:$G$62)+SUMPRODUCT((Jogos!$J$5:$J$62=$A9)*ISNUMBER(Jogos!$G$5:$G$62)*ISNUMBER(Jogos!$I$5:$I$62),Jogos!$I$5:$I$62) -> 0 | G9: =SUMPRODUCT((Jogos!$F$5:$F$62=$A9)*ISNUMBER(Jogos!$G$5:$G$62)*ISNUMBER(Jogos!$I$5:$I$62),Jogos!$I$5:$I$62)+SUMPRODUCT((Jogos!$J$5:$J$62=$A9)*ISNUMBER(Jogos!$G$5:$G$62)*ISNUMBER(Jogos!$I$5:$I$62),Jogos!$G$5:$G$62) -> 0 | H9: =F9-G9 -> 0 | I9: =3*C9+D9 -> 0 | J9: =I9*1000000000+C9*10000000+(H9+1000)*1000+MIN(F9,999) -> 1000000 | K9: =J9*100+(99-6) -> 100000093
A10: =Times!$B$12&"" -> Time H | B10: =SUMPRODUCT((Jogos!$F$5:$F$62=$A10)*ISNUMBER(Jogos!$G$5:$G$62)*ISNUMBER(Jogos!$I$5:$I$62))+SUMPRODUCT((Jogos!$J$5:$J$62=$A10)*ISNUMBER(Jogos!$G$5:$G$62)*ISNUMBER(Jogos!$I$5:$I$62)) -> 0 | C10: =SUMPRODUCT((Jogos!$F$5:$F$62=$A10)*ISNUMBER(Jogos!$G$5:$G$62)*ISNUMBER(Jogos!$I$5:$I$62)*(Jogos!$G$5:$G$62>Jogos!$I$5:$I$62))+SUMPRODUCT((Jogos!$J$5:$J$62=$A10)*ISNUMBER(Jogos!$G$5:$G$62)*ISNUMBER(Jogos!$I$5:$I$62)*(Jogos!$I$5:$I$62>Jogos!$G$5:$G$62)) -> 0 | D10: =SUMPRODUCT((Jogos!$F$5:$F$62=$A10)*ISNUMBER(Jogos!$G$5:$G$62)*ISNUMBER(Jogos!$I$5:$I$62)*(Jogos!$G$5:$G$62=Jogos!$I$5:$I$62))+SUMPRODUCT((Jogos!$J$5:$J$62=$A10)*ISNUMBER(Jogos!$G$5:$G$62)*ISNUMBER(Jogos!$I$5:$I$62)*(Jogos!$I$5:$I$62=Jogos!$G$5:$G$62)) -> 0 | E10: =B10-C10-D10 -> 0 | F10: =SUMPRODUCT((Jogos!$F$5:$F$62=$A10)*ISNUMBER(Jogos!$G$5:$G$62)*ISNUMBER(Jogos!$I$5:$I$62),Jogos!$G$5:$G$62)+SUMPRODUCT((Jogos!$J$5:$J$62=$A10)*ISNUMBER(Jogos!$G$5:$G$62)*ISNUMBER(Jogos!$I$5:$I$62),Jogos!$I$5:$I$62) -> 0 | G10: =SUMPRODUCT((Jogos!$F$5:$F$62=$A10)*ISNUMBER(Jogos!$G$5:$G$62)*ISNUMBER(Jogos!$I$5:$I$62),Jogos!$I$5:$I$62)+SUMPRODUCT((Jogos!$J$5:$J$62=$A10)*ISNUMBER(Jogos!$G$5:$G$62)*ISNUMBER(Jogos!$I$5:$I$62),Jogos!$G$5:$G$62) -> 0 | H10: =F10-G10 -> 0 | I10: =3*C10+D10 -> 0 | J10: =I10*1000000000+C10*10000000+(H10+1000)*1000+MIN(F10,999) -> 1000000 | K10: =J10*100+(99-7) -> 100000092
